BEGIN:VCALENDAR
PRODID:-//eluceo/ical//2.0/EN
VERSION:2.0
CALSCALE:GREGORIAN
BEGIN:VEVENT
UID:f8ea8a305a5320ad7a455d0835c13c9a
DTSTAMP:20260421T090155Z
SUMMARY:Einladung Schlussevent Projekt Vereinbarkeit 
DESCRIPTION:Zu dieser Veranstaltung können sich nur geladene Gäste anmeld
 en.\n
DTSTART:20261022T153000Z
DTEND:20261022T190000Z
LOCATION:Neumühlequai 42\, 8001 Zürich
GEO:47.382437;8.540640
X-APPLE-STRUCTURED-LOCATION;VALUE=URI;X-ADDRESS=Neumühlequai 42\, 8001 Zü
 rich;X-APPLE-RADIUS=49;X-TITLE=:geo:47.382437,8.540640
END:VEVENT
END:VCALENDAR
