BEGIN:VCALENDAR
PRODID:-//eluceo/ical//2.0/EN
VERSION:2.0
CALSCALE:GREGORIAN
BEGIN:VEVENT
UID:532cf81d40c37e96994170ea7846267a
DTSTAMP:20260418T193542Z
SUMMARY:PEPra-Präventionsfortbildungen Zürich 2026
DESCRIPTION:Diese Fortbildungen befähigen das ganze Praxisteam\, Präventi
 on im\nPraxisalltag umzusetzen.\n
DTSTART:20260305T130000Z
DTEND:20261112T170000Z
LOCATION:
GEO:47.362175;8.284303
X-APPLE-STRUCTURED-LOCATION;VALUE=URI;X-ADDRESS=;X-APPLE-RADIUS=49;X-TITLE=
 :geo:47.362175,8.284303
END:VEVENT
END:VCALENDAR
