BEGIN:VCALENDAR
PRODID:-//eluceo/ical//2.0/EN
VERSION:2.0
CALSCALE:GREGORIAN
BEGIN:VEVENT
UID:7b01d50030d0683cd244fb20cff71d6f
DTSTAMP:20260417T041204Z
SUMMARY:Webinar TARDOC-Kurse 2026 
DESCRIPTION:Für diesen Anlass können sich nur Mitglieder der AGZ anmelden
 .\n
DTSTART:20260609T163000Z
DTEND:20261027T200000Z
LOCATION:Nordstrasse 15\, 8006 Zürich
GEO:47.377124;8.549901
X-APPLE-STRUCTURED-LOCATION;VALUE=URI;X-ADDRESS=Nordstrasse 15\, 8006 Züri
 ch;X-APPLE-RADIUS=49;X-TITLE=:geo:47.377124,8.549901
END:VEVENT
END:VCALENDAR
